BEGIN:VCALENDAR
VERSION:2.0
PRODID:-//Langhorne Borough Business Association (LBBA) - ECPv6.15.17//NONSGML v1.0//EN
CALSCALE:GREGORIAN
METHOD:PUBLISH
X-WR-CALNAME:Langhorne Borough Business Association (LBBA)
X-ORIGINAL-URL:https://langhorne.info
X-WR-CALDESC:Events for Langhorne Borough Business Association (LBBA)
REFRESH-INTERVAL;VALUE=DURATION:PT1H
X-Robots-Tag:noindex
X-PUBLISHED-TTL:PT1H
BEGIN:VTIMEZONE
TZID:America/New_York
BEGIN:DAYLIGHT
TZOFFSETFROM:-0500
TZOFFSETTO:-0400
TZNAME:EDT
DTSTART:20180311T070000
END:DAYLIGHT
BEGIN:STANDARD
TZOFFSETFROM:-0400
TZOFFSETTO:-0500
TZNAME:EST
DTSTART:20181104T060000
END:STANDARD
BEGIN:DAYLIGHT
TZOFFSETFROM:-0500
TZOFFSETTO:-0400
TZNAME:EDT
DTSTART:20190310T070000
END:DAYLIGHT
BEGIN:STANDARD
TZOFFSETFROM:-0400
TZOFFSETTO:-0500
TZNAME:EST
DTSTART:20191103T060000
END:STANDARD
BEGIN:DAYLIGHT
TZOFFSETFROM:-0500
TZOFFSETTO:-0400
TZNAME:EDT
DTSTART:20200308T070000
END:DAYLIGHT
BEGIN:STANDARD
TZOFFSETFROM:-0400
TZOFFSETTO:-0500
TZNAME:EST
DTSTART:20201101T060000
END:STANDARD
END:VTIMEZONE
BEGIN:VTIMEZONE
TZID:UTC
BEGIN:STANDARD
TZOFFSETFROM:+0000
TZOFFSETTO:+0000
TZNAME:UTC
DTSTART:20170101T000000
END:STANDARD
END:VTIMEZONE
BEGIN:VEVENT
DTSTART;TZID=America/New_York:20190504T090000
DTEND;TZID=America/New_York:20190504T120000
DTSTAMP:20260422T184052
CREATED:20181207T161045Z
LAST-MODIFIED:20181207T161045Z
UID:1408-1556960400-1556971200@langhorne.info
SUMMARY:Run for Woods 5K Run-Walk-Stroll
DESCRIPTION:Join us for the fun holiday evening.  The tree lighting is at 7:00pm.
URL:https://langhorne.info/event/run-for-woods-5k-run-walk-stroll/
LOCATION:Woods Services\, 10 Meadowood Drive\, Langhorne\, PA\, 19047
ATTACH;FMTTYPE=image/jpeg:https://langhorne.info/wp-content/uploads/2018/12/LBBA-Run-for-Woods-2018.jpg
END:VEVENT
BEGIN:VEVENT
DTSTART;TZID=America/New_York:20190424T193000
DTEND;TZID=America/New_York:20190424T210000
DTSTAMP:20260422T184053
CREATED:20181207T155234Z
LAST-MODIFIED:20181207T155234Z
UID:1406-1556134200-1556139600@langhorne.info
SUMMARY:LBBA April Meeting
DESCRIPTION:Join us for the fun holiday evening.  The tree lighting is at 7:00pm.
URL:https://langhorne.info/event/lbba-april-meeting/
LOCATION:Jesse Soby Post #148 American Legion Hall (2nd Floor)\, 115 W Richardson Ave.\, Langhorne\, PA\, 19047\, United States
ATTACH;FMTTYPE=image/jpeg:https://langhorne.info/wp-content/uploads/2018/12/calendar-image.jpeg
ORGANIZER;CN="LBBA":MAILTO:Board@lbba.info
END:VEVENT
BEGIN:VEVENT
DTSTART;TZID=America/New_York:20190327T193000
DTEND;TZID=America/New_York:20190327T210000
DTSTAMP:20260422T184053
CREATED:20181207T154849Z
LAST-MODIFIED:20181207T154849Z
UID:1404-1553715000-1553720400@langhorne.info
SUMMARY:LBBA March Meeting
DESCRIPTION:Join us for the fun holiday evening.  The tree lighting is at 7:00pm.
URL:https://langhorne.info/event/lbba-march-meeting/
LOCATION:Jesse Soby Post #148 American Legion Hall (2nd Floor)\, 115 W Richardson Ave.\, Langhorne\, PA\, 19047\, United States
ATTACH;FMTTYPE=image/jpeg:https://langhorne.info/wp-content/uploads/2018/12/clock-arrive-early-to-network.jpeg
ORGANIZER;CN="LBBA":MAILTO:Board@lbba.info
END:VEVENT
BEGIN:VEVENT
DTSTART;TZID=America/New_York:20190227T193000
DTEND;TZID=America/New_York:20190227T210000
DTSTAMP:20260422T184053
CREATED:20181207T154652Z
LAST-MODIFIED:20181207T154652Z
UID:1401-1551295800-1551301200@langhorne.info
SUMMARY:LBBA February Meeting
DESCRIPTION:Join us for the fun holiday evening.  The tree lighting is at 7:00pm.
URL:https://langhorne.info/event/lbba-february-meeting/
LOCATION:Jesse Soby Post #148 American Legion Hall (2nd Floor)\, 115 W Richardson Ave.\, Langhorne\, PA\, 19047\, United States
ATTACH;FMTTYPE=image/jpeg:https://langhorne.info/wp-content/uploads/2018/12/Calendar-to-do-image.jpeg
ORGANIZER;CN="LBBA":MAILTO:Board@lbba.info
END:VEVENT
BEGIN:VEVENT
DTSTART;TZID=America/New_York:20190123T193000
DTEND;TZID=America/New_York:20190123T210000
DTSTAMP:20260422T184053
CREATED:20181207T151425Z
LAST-MODIFIED:20181207T161128Z
UID:1397-1548271800-1548277200@langhorne.info
SUMMARY:LBBA January Meeting
DESCRIPTION:Join us for the fun holiday evening.  The tree lighting is at 7:00pm.
URL:https://langhorne.info/event/lbba-monthly-meeting-2/
LOCATION:Jesse Soby Post #148 American Legion Hall (2nd Floor)\, 115 W Richardson Ave.\, Langhorne\, PA\, 19047\, United States
ATTACH;FMTTYPE=image/jpeg:https://langhorne.info/wp-content/uploads/2018/12/clock-arrive-early-to-network.jpeg
ORGANIZER;CN="LBBA":MAILTO:Board@lbba.info
END:VEVENT
BEGIN:VEVENT
DTSTART;TZID=UTC:20181207T180000
DTEND;TZID=UTC:20181207T210000
DTSTAMP:20260422T184053
CREATED:20171122T191940Z
LAST-MODIFIED:20171208T232316Z
UID:1105-1544205600-1544216400@langhorne.info
SUMMARY:Dickens Night
DESCRIPTION:Join us for the fun holiday evening.  The tree lighting is at 7:00pm.
URL:https://langhorne.info/event/dickens-night/
LOCATION:Langhorne Borough\, 102 W Maple Ave\, Langhorne\, PA\, 19047\, United States
ATTACH;FMTTYPE=image/jpeg:https://langhorne.info/wp-content/uploads/2017/11/IMG_6015-scaled.jpg
ORGANIZER;CN="LBBA":MAILTO:Board@lbba.info
END:VEVENT
BEGIN:VEVENT
DTSTART;TZID=UTC:20181028T100000
DTEND;TZID=UTC:20181028T150000
DTSTAMP:20260422T184053
CREATED:20171128T021733Z
LAST-MODIFIED:20181026T135117Z
UID:1129-1540720800-1540738800@langhorne.info
SUMMARY:Olde Langhorne Harvest Day
DESCRIPTION:Join us for the fun holiday evening.  The tree lighting is at 7:00pm.
URL:https://langhorne.info/event/olde-langhorne-harvest-day/
LOCATION:Langhorne Borough\, 102 W Maple Ave\, Langhorne\, PA\, 19047\, United States
ATTACH;FMTTYPE=image/jpeg:https://langhorne.info/wp-content/uploads/2017/11/lbba-harvest-day.jpg
ORGANIZER;CN="LBBA":MAILTO:Board@lbba.info
END:VEVENT
BEGIN:VEVENT
DTSTART;TZID=UTC:20180822T190000
DTEND;TZID=UTC:20180822T210000
DTSTAMP:20260422T184053
CREATED:20171208T234337Z
LAST-MODIFIED:20180608T155857Z
UID:1310-1534964400-1534971600@langhorne.info
SUMMARY:Concerts In the Park - Danny V's 52nd Street Band
DESCRIPTION:Join us for the fun holiday evening.  The tree lighting is at 7:00pm.
URL:https://langhorne.info/event/concerts-in-the-park-2018-07-11-2018-08-08/
LOCATION:Langhorne Borough\, 102 W Maple Ave\, Langhorne\, PA\, 19047\, United States
ATTACH;FMTTYPE=image/jpeg:https://langhorne.info/wp-content/uploads/2017/12/52.jpg
ORGANIZER;CN="LBBA":MAILTO:Board@lbba.info
END:VEVENT
BEGIN:VEVENT
DTSTART;TZID=UTC:20180808T190000
DTEND;TZID=UTC:20180808T210000
DTSTAMP:20260422T184053
CREATED:20171208T234337Z
LAST-MODIFIED:20180608T155942Z
UID:1177-1533754800-1533762000@langhorne.info
SUMMARY:Concerts In the Park - Cracklin' Diamond
DESCRIPTION:Join us for the fun holiday evening.  The tree lighting is at 7:00pm.
URL:https://langhorne.info/event/concerts-in-the-park-2018-08-22/
LOCATION:Langhorne Borough\, 102 W Maple Ave\, Langhorne\, PA\, 19047\, United States
ATTACH;FMTTYPE=image/jpeg:https://langhorne.info/wp-content/uploads/2017/12/lbba-concert-2.jpg
ORGANIZER;CN="LBBA":MAILTO:Board@lbba.info
END:VEVENT
BEGIN:VEVENT
DTSTART;TZID=UTC:20180725T190000
DTEND;TZID=UTC:20180725T210000
DTSTAMP:20260422T184053
CREATED:20171208T234337Z
LAST-MODIFIED:20180404T223130Z
UID:1309-1532545200-1532552400@langhorne.info
SUMMARY:Concerts In the Park - Dibbs & The Detonators
DESCRIPTION:Join us for the fun holiday evening.  The tree lighting is at 7:00pm.
URL:https://langhorne.info/event/concerts-in-the-park-2018-07-11-2018-07-25/
LOCATION:Langhorne Borough\, 102 W Maple Ave\, Langhorne\, PA\, 19047\, United States
ATTACH;FMTTYPE=image/jpeg:https://langhorne.info/wp-content/uploads/2017/12/lbba-concert-3.jpg
ORGANIZER;CN="LBBA":MAILTO:Board@lbba.info
END:VEVENT
BEGIN:VEVENT
DTSTART;TZID=UTC:20180711T190000
DTEND;TZID=UTC:20180711T210000
DTSTAMP:20260422T184053
CREATED:20171208T234337Z
LAST-MODIFIED:20180404T220228Z
UID:1308-1531335600-1531342800@langhorne.info
SUMMARY:Concerts In the Park- Big Whiskey
DESCRIPTION:Join us for the fun holiday evening.  The tree lighting is at 7:00pm.
URL:https://langhorne.info/event/concerts-in-the-park-2018-07-11/
LOCATION:Langhorne Borough\, 102 W Maple Ave\, Langhorne\, PA\, 19047\, United States
ATTACH;FMTTYPE=image/jpeg:https://langhorne.info/wp-content/uploads/2017/12/lbba-concert-3.jpg
ORGANIZER;CN="LBBA":MAILTO:Board@lbba.info
END:VEVENT
BEGIN:VEVENT
DTSTART;TZID=UTC:20180627T190000
DTEND;TZID=UTC:20180627T210000
DTSTAMP:20260422T184053
CREATED:20171208T234337Z
LAST-MODIFIED:20180531T133949Z
UID:1307-1530126000-1530133200@langhorne.info
SUMMARY:Concerts In the Park -Flying Circus Led Zeppelin Tribute
DESCRIPTION:Join us for the fun holiday evening.  The tree lighting is at 7:00pm.
URL:https://langhorne.info/event/concerts-in-the-park-2018-06-27/
LOCATION:Langhorne Borough\, 102 W Maple Ave\, Langhorne\, PA\, 19047\, United States
ATTACH;FMTTYPE=image/jpeg:https://langhorne.info/wp-content/uploads/2017/12/lbba-concert-3.jpg
ORGANIZER;CN="LBBA":MAILTO:Board@lbba.info
END:VEVENT
BEGIN:VEVENT
DTSTART;TZID=UTC:20180616T150000
DTEND;TZID=UTC:20180616T190000
DTSTAMP:20260422T184053
CREATED:20171128T021642Z
LAST-MODIFIED:20180524T163929Z
UID:1127-1529161200-1529175600@langhorne.info
SUMMARY:Car Show
DESCRIPTION:Join us for the fun holiday evening.  The tree lighting is at 7:00pm.
URL:https://langhorne.info/event/car-show/
LOCATION:Langhorne Borough\, 102 W Maple Ave\, Langhorne\, PA\, 19047\, United States
ATTACH;FMTTYPE=image/jpeg:https://langhorne.info/wp-content/uploads/2017/11/lbba-car-show.jpg
ORGANIZER;CN="LBBA":MAILTO:Board@lbba.info
END:VEVENT
BEGIN:VEVENT
DTSTART;TZID=UTC:20180613T190000
DTEND;TZID=UTC:20180613T210000
DTSTAMP:20260422T184053
CREATED:20171208T234337Z
LAST-MODIFIED:20180404T213915Z
UID:1306-1528916400-1528923600@langhorne.info
SUMMARY:Concerts In the Park - Steve Guyger
DESCRIPTION:Join us for the fun holiday evening.  The tree lighting is at 7:00pm.
URL:https://langhorne.info/event/concerts-in-the-park-2018-06-13/
LOCATION:Langhorne Borough\, 102 W Maple Ave\, Langhorne\, PA\, 19047\, United States
ATTACH;FMTTYPE=image/jpeg:https://langhorne.info/wp-content/uploads/2017/12/lbba-concert-3.jpg
ORGANIZER;CN="LBBA":MAILTO:Board@lbba.info
END:VEVENT
BEGIN:VEVENT
DTSTART;TZID=UTC:20180530T190000
DTEND;TZID=UTC:20180530T210000
DTSTAMP:20260422T184053
CREATED:20171208T234337Z
LAST-MODIFIED:20180404T212955Z
UID:1172-1527706800-1527714000@langhorne.info
SUMMARY:Concerts In the Park - E Street Shuffle
DESCRIPTION:Join us for the fun holiday evening.  The tree lighting is at 7:00pm.
URL:https://langhorne.info/event/concerts-in-the-park/
LOCATION:Langhorne Borough\, 102 W Maple Ave\, Langhorne\, PA\, 19047\, United States
ATTACH;FMTTYPE=image/jpeg:https://langhorne.info/wp-content/uploads/2017/12/Concert-in-the-Park-E-Street-054-scaled.jpg
ORGANIZER;CN="LBBA":MAILTO:Board@lbba.info
END:VEVENT
BEGIN:VEVENT
DTSTART;TZID=UTC:20180505T080000
DTEND;TZID=UTC:20180505T100000
DTSTAMP:20260422T184053
CREATED:20171208T233847Z
LAST-MODIFIED:20180117T023721Z
UID:1170-1525507200-1525514400@langhorne.info
SUMMARY:Run For Woods - Clayton Thomas Memorial LBBA Run
DESCRIPTION:Join us for the fun holiday evening.  The tree lighting is at 7:00pm.
URL:https://langhorne.info/event/run-for-woods-clayton-thomas-memorial-lbba-run/
LOCATION:Langhorne Borough\, 102 W Maple Ave\, Langhorne\, PA\, 19047\, United States
ATTACH;FMTTYPE=image/jpeg:https://langhorne.info/wp-content/uploads/2017/12/run-for-the-woods-scaled.jpg
ORGANIZER;CN="LBBA":MAILTO:Board@lbba.info
END:VEVENT
BEGIN:VEVENT
DTSTART;TZID=UTC:20180207T193000
DTEND;TZID=UTC:20180207T210000
DTSTAMP:20260422T184053
CREATED:20180112T203948Z
LAST-MODIFIED:20180112T204202Z
UID:1261-1518031800-1518037200@langhorne.info
SUMMARY:LBBA Monthly Meeting
DESCRIPTION:Join us for the fun holiday evening.  The tree lighting is at 7:00pm.
URL:https://langhorne.info/event/lbba-monthly-meeting/
LOCATION:Jesse Soby Post #148 American Legion Hall (2nd Floor)\, 115 W Richardson Ave.\, Langhorne\, PA\, 19047\, United States
ATTACH;FMTTYPE=image/jpeg:https://langhorne.info/wp-content/uploads/2018/01/bigstock-212730379-1.jpg
ORGANIZER;CN="LBBA":MAILTO:Board@lbba.info
END:VEVENT
END:VCALENDAR