BEGIN:VCALENDAR
VERSION:2.0
PRODID:-//Langhorne Borough Business Association (LBBA) - ECPv6.15.17//NONSGML v1.0//EN
CALSCALE:GREGORIAN
METHOD:PUBLISH
X-WR-CALNAME:Langhorne Borough Business Association (LBBA)
X-ORIGINAL-URL:https://langhorne.info
X-WR-CALDESC:Events for Langhorne Borough Business Association (LBBA)
REFRESH-INTERVAL;VALUE=DURATION:PT1H
X-Robots-Tag:noindex
X-PUBLISHED-TTL:PT1H
BEGIN:VTIMEZONE
TZID:America/New_York
BEGIN:DAYLIGHT
TZOFFSETFROM:-0500
TZOFFSETTO:-0400
TZNAME:EDT
DTSTART:20190310T070000
END:DAYLIGHT
BEGIN:STANDARD
TZOFFSETFROM:-0400
TZOFFSETTO:-0500
TZNAME:EST
DTSTART:20191103T060000
END:STANDARD
BEGIN:DAYLIGHT
TZOFFSETFROM:-0500
TZOFFSETTO:-0400
TZNAME:EDT
DTSTART:20200308T070000
END:DAYLIGHT
BEGIN:STANDARD
TZOFFSETFROM:-0400
TZOFFSETTO:-0500
TZNAME:EST
DTSTART:20201101T060000
END:STANDARD
BEGIN:DAYLIGHT
TZOFFSETFROM:-0500
TZOFFSETTO:-0400
TZNAME:EDT
DTSTART:20210314T070000
END:DAYLIGHT
BEGIN:STANDARD
TZOFFSETFROM:-0400
TZOFFSETTO:-0500
TZNAME:EST
DTSTART:20211107T060000
END:STANDARD
END:VTIMEZONE
BEGIN:VEVENT
DTSTART;TZID=America/New_York:20200502T090000
DTEND;TZID=America/New_York:20200502T120000
DTSTAMP:20260425T213143
CREATED:20200109T182403Z
LAST-MODIFIED:20200327T154519Z
UID:1613-1588410000-1588420800@langhorne.info
SUMMARY:Run for Woods 5K Run-Walk-Stroll - POSTPONED
DESCRIPTION:Join us for the fun holiday evening.  The tree lighting is at 7:00pm.
URL:https://langhorne.info/event/run-for-woods-5k-run-walk-stroll-2/
LOCATION:Woods Services\, 10 Meadowood Drive\, Langhorne\, PA\, 19047
ATTACH;FMTTYPE=image/jpeg:https://langhorne.info/wp-content/uploads/2018/12/LBBA-Run-for-Woods-2018.jpg
END:VEVENT
END:VCALENDAR