BEGIN:VCALENDAR
VERSION:2.0
PRODID:-//Langhorne Borough Business Association (LBBA) - ECPv6.15.17//NONSGML v1.0//EN
CALSCALE:GREGORIAN
METHOD:PUBLISH
X-ORIGINAL-URL:https://langhorne.info
X-WR-CALDESC:Events for Langhorne Borough Business Association (LBBA)
REFRESH-INTERVAL;VALUE=DURATION:PT1H
X-Robots-Tag:noindex
X-PUBLISHED-TTL:PT1H
BEGIN:VTIMEZONE
TZID:America/New_York
BEGIN:DAYLIGHT
TZOFFSETFROM:-0500
TZOFFSETTO:-0400
TZNAME:EDT
DTSTART:20220313T070000
END:DAYLIGHT
BEGIN:STANDARD
TZOFFSETFROM:-0400
TZOFFSETTO:-0500
TZNAME:EST
DTSTART:20221106T060000
END:STANDARD
BEGIN:DAYLIGHT
TZOFFSETFROM:-0500
TZOFFSETTO:-0400
TZNAME:EDT
DTSTART:20230312T070000
END:DAYLIGHT
BEGIN:STANDARD
TZOFFSETFROM:-0400
TZOFFSETTO:-0500
TZNAME:EST
DTSTART:20231105T060000
END:STANDARD
BEGIN:DAYLIGHT
TZOFFSETFROM:-0500
TZOFFSETTO:-0400
TZNAME:EDT
DTSTART:20240310T070000
END:DAYLIGHT
BEGIN:STANDARD
TZOFFSETFROM:-0400
TZOFFSETTO:-0500
TZNAME:EST
DTSTART:20241103T060000
END:STANDARD
END:VTIMEZONE
BEGIN:VEVENT
DTSTART;TZID=America/New_York:20230426T193000
DTEND;TZID=America/New_York:20230426T210000
DTSTAMP:20260421T185320
CREATED:20230106T191621Z
LAST-MODIFIED:20230106T192010Z
UID:1759-1682537400-1682542800@langhorne.info
SUMMARY:April 2023 Meeting
DESCRIPTION:Join us for the fun holiday evening.  The tree lighting is at 7:00pm.
URL:https://langhorne.info/event/april-2023-meeting/
LOCATION:Jesse Soby Post #148 American Legion Hall (2nd Floor)\, 115 W Richardson Ave.\, Langhorne\, PA\, 19047\, United States
ATTACH;FMTTYPE=image/jpeg:https://langhorne.info/wp-content/uploads/2018/12/clock-arrive-early-to-network.jpeg
ORGANIZER;CN="LBBA":MAILTO:Board@lbba.info
END:VEVENT
END:VCALENDAR