BEGIN:VCALENDAR
VERSION:2.0
PRODID:-//Langhorne Borough Business Association (LBBA) - ECPv6.15.17//NONSGML v1.0//EN
CALSCALE:GREGORIAN
METHOD:PUBLISH
X-WR-CALNAME:Langhorne Borough Business Association (LBBA)
X-ORIGINAL-URL:https://langhorne.info
X-WR-CALDESC:Events for Langhorne Borough Business Association (LBBA)
REFRESH-INTERVAL;VALUE=DURATION:PT1H
X-Robots-Tag:noindex
X-PUBLISHED-TTL:PT1H
BEGIN:VTIMEZONE
TZID:America/New_York
BEGIN:DAYLIGHT
TZOFFSETFROM:-0500
TZOFFSETTO:-0400
TZNAME:EDT
DTSTART:20220313T070000
END:DAYLIGHT
BEGIN:STANDARD
TZOFFSETFROM:-0400
TZOFFSETTO:-0500
TZNAME:EST
DTSTART:20221106T060000
END:STANDARD
BEGIN:DAYLIGHT
TZOFFSETFROM:-0500
TZOFFSETTO:-0400
TZNAME:EDT
DTSTART:20230312T070000
END:DAYLIGHT
BEGIN:STANDARD
TZOFFSETFROM:-0400
TZOFFSETTO:-0500
TZNAME:EST
DTSTART:20231105T060000
END:STANDARD
BEGIN:DAYLIGHT
TZOFFSETFROM:-0500
TZOFFSETTO:-0400
TZNAME:EDT
DTSTART:20240310T070000
END:DAYLIGHT
BEGIN:STANDARD
TZOFFSETFROM:-0400
TZOFFSETTO:-0500
TZNAME:EST
DTSTART:20241103T060000
END:STANDARD
END:VTIMEZONE
BEGIN:VEVENT
DTSTART;TZID=America/New_York:20230507T090000
DTEND;TZID=America/New_York:20230507T120000
DTSTAMP:20260421T172247
CREATED:20230106T193058Z
LAST-MODIFIED:20230208T213112Z
UID:1775-1683450000-1683460800@langhorne.info
SUMMARY:Run for Woods 5K Run-Walk-Stroll
DESCRIPTION:Join us for the fun holiday evening.  The tree lighting is at 7:00pm.
URL:https://langhorne.info/event/run-for-woods-5k-run-walk-stroll-4/
LOCATION:Langhorne Borough\, 102 W Maple Ave\, Langhorne\, PA\, 19047\, United States
ATTACH;FMTTYPE=image/jpeg:https://langhorne.info/wp-content/uploads/2018/12/LBBA-Run-for-Woods-2018.jpg
ORGANIZER;CN="LBBA":MAILTO:Board@lbba.info
END:VEVENT
BEGIN:VEVENT
DTSTART;TZID=America/New_York:20230524T193000
DTEND;TZID=America/New_York:20230524T210000
DTSTAMP:20260421T172247
CREATED:20230106T191648Z
LAST-MODIFIED:20230106T192013Z
UID:1761-1684956600-1684962000@langhorne.info
SUMMARY:May 2023 Meeting
DESCRIPTION:Join us for the fun holiday evening.  The tree lighting is at 7:00pm.
URL:https://langhorne.info/event/may-2023-meeting/
LOCATION:Jesse Soby Post #148 American Legion Hall (2nd Floor)\, 115 W Richardson Ave.\, Langhorne\, PA\, 19047\, United States
ATTACH;FMTTYPE=image/jpeg:https://langhorne.info/wp-content/uploads/2018/12/clock-arrive-early-to-network.jpeg
ORGANIZER;CN="LBBA":MAILTO:Board@lbba.info
END:VEVENT
BEGIN:VEVENT
DTSTART;TZID=America/New_York:20230531T190000
DTEND;TZID=America/New_York:20230531T210000
DTSTAMP:20260421T172247
CREATED:20230106T193311Z
LAST-MODIFIED:20230106T193429Z
UID:1779-1685559600-1685566800@langhorne.info
SUMMARY:LBBA Summer Concert Series In the Park
DESCRIPTION:Join us for the fun holiday evening.  The tree lighting is at 7:00pm.
URL:https://langhorne.info/event/lbba-summer-concert-series-in-the-park-9/
LOCATION:Langhorne Borough\, 102 W Maple Ave\, Langhorne\, PA\, 19047\, United States
ATTACH;FMTTYPE=image/jpeg:https://langhorne.info/wp-content/uploads/2017/12/Concert-in-the-Park-E-Street-054-scaled.jpg
ORGANIZER;CN="LBBA":MAILTO:Board@lbba.info
END:VEVENT
END:VCALENDAR